BEGIN:VCALENDAR
VERSION:2.0
PRODID:-//American Herbalists Guild - ECPv6.15.20//NONSGML v1.0//EN
CALSCALE:GREGORIAN
METHOD:PUBLISH
X-WR-CALNAME:American Herbalists Guild
X-ORIGINAL-URL:https://www.americanherbalistsguild.com
X-WR-CALDESC:Events for American Herbalists Guild
REFRESH-INTERVAL;VALUE=DURATION:PT1H
X-Robots-Tag:noindex
X-PUBLISHED-TTL:PT1H
BEGIN:VTIMEZONE
TZID:America/New_York
BEGIN:DAYLIGHT
TZOFFSETFROM:-0500
TZOFFSETTO:-0400
TZNAME:EDT
DTSTART:20230312T070000
END:DAYLIGHT
BEGIN:STANDARD
TZOFFSETFROM:-0400
TZOFFSETTO:-0500
TZNAME:EST
DTSTART:20231105T060000
END:STANDARD
BEGIN:DAYLIGHT
TZOFFSETFROM:-0500
TZOFFSETTO:-0400
TZNAME:EDT
DTSTART:20240310T070000
END:DAYLIGHT
BEGIN:STANDARD
TZOFFSETFROM:-0400
TZOFFSETTO:-0500
TZNAME:EST
DTSTART:20241103T060000
END:STANDARD
BEGIN:DAYLIGHT
TZOFFSETFROM:-0500
TZOFFSETTO:-0400
TZNAME:EDT
DTSTART:20250309T070000
END:DAYLIGHT
BEGIN:STANDARD
TZOFFSETFROM:-0400
TZOFFSETTO:-0500
TZNAME:EST
DTSTART:20251102T060000
END:STANDARD
BEGIN:DAYLIGHT
TZOFFSETFROM:-0500
TZOFFSETTO:-0400
TZNAME:EDT
DTSTART:20260308T070000
END:DAYLIGHT
BEGIN:STANDARD
TZOFFSETFROM:-0400
TZOFFSETTO:-0500
TZNAME:EST
DTSTART:20261101T060000
END:STANDARD
END:VTIMEZONE
BEGIN:VEVENT
DTSTART;TZID=America/New_York:20250128T180000
DTEND;TZID=America/New_York:20250128T193000
DTSTAMP:20260423T042554
CREATED:20250119T130647Z
LAST-MODIFIED:20250119T130647Z
UID:10000191-1738087200-1738092600@www.americanherbalistsguild.com
SUMMARY:Free Public Webinar: Love Your Liver & Lymph with Maria Noël Groves\, RH(AHG)
DESCRIPTION:Understanding Key Detoxification Pathways and Integrating Alteratives into Broader Protocols 🌿\nIn this class\, you’ll learn some basics on liver and lymph anatomy\, physiology\, and natural supports as well as how and why they can be helpful as part of broader protocols addressing a wide range of health concern ranging from hormone and reproductive health to blood sugar balance to more complicated health concerns. Specific favorite herbs and potential cautions for sensitive populations and medication interactions will also be discussed.
URL:https://www.americanherbalistsguild.com/event/free-public-webinar-love-your-liver-lymph-with-maria-noel-groves-rhahg/
ATTACH;FMTTYPE=image/jpeg:https://www.americanherbalistsguild.com/wp-content/uploads/2025/01/scaled_768.jpg
END:VEVENT
BEGIN:VEVENT
DTSTART;TZID=America/New_York:20241019T160000
DTEND;TZID=America/New_York:20241019T170000
DTSTAMP:20260423T042554
CREATED:20241013T183055Z
LAST-MODIFIED:20241013T183137Z
UID:10000190-1729353600-1729357200@www.americanherbalistsguild.com
SUMMARY:Annual Chapter Meeting
DESCRIPTION:Please consider joining us if you are interested in joining or starting a chapter in your area!  \nWe hope to see you there!  \nYour dedicated Chapter Coordinators\, Sabrena Gwin and Ruth Glass  \nAny questions\, comments or concerns please email us at: chapters@americanherbalistsguild.com
URL:https://www.americanherbalistsguild.com/event/annual-chapter-meeting/
CATEGORIES:Meetings
LOCATION:https://www.americanherbalistsguild.com/event/annual-chapter-meeting/
END:VEVENT
BEGIN:VEVENT
DTSTART;TZID=America/New_York:20241004T000000
DTEND;TZID=America/New_York:20241007T000000
DTSTAMP:20260423T042554
CREATED:20240513T192651Z
LAST-MODIFIED:20250312T022915Z
UID:10000016-1728000000-1728259200@www.americanherbalistsguild.com
SUMMARY:2024 AHG Symposium: Herbal Roots & Medicinal Mushrooms
DESCRIPTION:You will have access to all live webinars and recordings for one year. If you also purchase the Post-Symposium Intensive and watch all 8 webinars associated with the certificate (the are listed in the course cards below)\, you are eligible to receive the certificate in Botanical Aging. You have a year to complete all recordings to receive your certificate. You can find the bundle with the Live Symposium\, Recordings\, and Post-Intensive listed above. \n→ See the symposium bundle
URL:https://www.americanherbalistsguild.com/event/2024-ahg-symposium-herbal-roots-medicinal-mushrooms/
CATEGORIES:Symposia
ATTACH;FMTTYPE=image/jpeg:https://www.americanherbalistsguild.com/wp-content/uploads/2024/05/111111.jpg
END:VEVENT
END:VCALENDAR